BEGIN:VCALENDAR
VERSION:2.0
PRODID:-//Tchoukball UK - ECPv6.15.20//NONSGML v1.0//EN
CALSCALE:GREGORIAN
METHOD:PUBLISH
X-WR-CALNAME:Tchoukball UK
X-ORIGINAL-URL:https://www.tchoukball.org.uk
X-WR-CALDESC:Events for Tchoukball UK
REFRESH-INTERVAL;VALUE=DURATION:PT1H
X-Robots-Tag:noindex
X-PUBLISHED-TTL:PT1H
BEGIN:VTIMEZONE
TZID:Europe/London
BEGIN:DAYLIGHT
TZOFFSETFROM:+0000
TZOFFSETTO:+0100
TZNAME:BST
DTSTART:20250330T010000
END:DAYLIGHT
BEGIN:STANDARD
TZOFFSETFROM:+0100
TZOFFSETTO:+0000
TZNAME:GMT
DTSTART:20251026T010000
END:STANDARD
BEGIN:DAYLIGHT
TZOFFSETFROM:+0000
TZOFFSETTO:+0100
TZNAME:BST
DTSTART:20260329T010000
END:DAYLIGHT
BEGIN:STANDARD
TZOFFSETFROM:+0100
TZOFFSETTO:+0000
TZNAME:GMT
DTSTART:20261025T010000
END:STANDARD
BEGIN:DAYLIGHT
TZOFFSETFROM:+0000
TZOFFSETTO:+0100
TZNAME:BST
DTSTART:20270328T010000
END:DAYLIGHT
BEGIN:STANDARD
TZOFFSETFROM:+0100
TZOFFSETTO:+0000
TZNAME:GMT
DTSTART:20271031T010000
END:STANDARD
END:VTIMEZONE
BEGIN:VEVENT
DTSTART;TZID=Europe/London:20260125T100000
DTEND;TZID=Europe/London:20260125T150000
DTSTAMP:20260425T152525
CREATED:20251006T170000Z
LAST-MODIFIED:20251008T184923Z
UID:9358-1769335200-1769353200@www.tchoukball.org.uk
SUMMARY:South East Regional League Round 2
DESCRIPTION:
URL:https://www.tchoukball.org.uk/events/south-east-regional-league-round-2-2526/
LOCATION:Portsmouth High School\, 25 Kent Rd\, Southsea\, Portsmouth\, Hampshire\, PO53EQ\, United Kingdom
CATEGORIES:Competitions
ORGANIZER;CN="Tom McKeen":MAILTO:thomas.mckeen@tchoukball.org.uk
END:VEVENT
END:VCALENDAR