BEGIN:VCALENDAR
VERSION:2.0
PRODID:-//Tchoukball UK - ECPv6.15.20//NONSGML v1.0//EN
CALSCALE:GREGORIAN
METHOD:PUBLISH
X-WR-CALNAME:Tchoukball UK
X-ORIGINAL-URL:https://www.tchoukball.org.uk
X-WR-CALDESC:Events for Tchoukball UK
REFRESH-INTERVAL;VALUE=DURATION:PT1H
X-Robots-Tag:noindex
X-PUBLISHED-TTL:PT1H
BEGIN:VTIMEZONE
TZID:Europe/London
BEGIN:DAYLIGHT
TZOFFSETFROM:+0000
TZOFFSETTO:+0100
TZNAME:BST
DTSTART:20230326T010000
END:DAYLIGHT
BEGIN:STANDARD
TZOFFSETFROM:+0100
TZOFFSETTO:+0000
TZNAME:GMT
DTSTART:20231029T010000
END:STANDARD
BEGIN:DAYLIGHT
TZOFFSETFROM:+0000
TZOFFSETTO:+0100
TZNAME:BST
DTSTART:20240331T010000
END:DAYLIGHT
BEGIN:STANDARD
TZOFFSETFROM:+0100
TZOFFSETTO:+0000
TZNAME:GMT
DTSTART:20241027T010000
END:STANDARD
BEGIN:DAYLIGHT
TZOFFSETFROM:+0000
TZOFFSETTO:+0100
TZNAME:BST
DTSTART:20250330T010000
END:DAYLIGHT
BEGIN:STANDARD
TZOFFSETFROM:+0100
TZOFFSETTO:+0000
TZNAME:GMT
DTSTART:20251026T010000
END:STANDARD
BEGIN:DAYLIGHT
TZOFFSETFROM:+0000
TZOFFSETTO:+0100
TZNAME:BST
DTSTART:20260329T010000
END:DAYLIGHT
BEGIN:STANDARD
TZOFFSETFROM:+0100
TZOFFSETTO:+0000
TZNAME:GMT
DTSTART:20261025T010000
END:STANDARD
BEGIN:DAYLIGHT
TZOFFSETFROM:+0000
TZOFFSETTO:+0100
TZNAME:BST
DTSTART:20270328T010000
END:DAYLIGHT
BEGIN:STANDARD
TZOFFSETFROM:+0100
TZOFFSETTO:+0000
TZNAME:GMT
DTSTART:20271031T010000
END:STANDARD
END:VTIMEZONE
BEGIN:VEVENT
DTSTART;TZID=Europe/London:20260308T100000
DTEND;TZID=Europe/London:20260308T150000
DTSTAMP:20260421T235231
CREATED:20251006T170000Z
LAST-MODIFIED:20251006T114013Z
UID:9360-1772964000-1772982000@www.tchoukball.org.uk
SUMMARY:South East Regional League Round 4
DESCRIPTION:
URL:https://www.tchoukball.org.uk/events/south-east-regional-league-round-4-2526/
LOCATION:Fareham Academy\, St Anne's Grove\, Fareham\, Hampshire\, PO14 1JJ
CATEGORIES:Competitions
ORGANIZER;CN="Tom McKeen":MAILTO:thomas.mckeen@tchoukball.org.uk
END:VEVENT
BEGIN:VEVENT
DTSTART;TZID=Europe/London:20260306T090000
DTEND;TZID=Europe/London:20260306T160000
DTSTAMP:20260421T235231
CREATED:20250804T100503Z
LAST-MODIFIED:20250804T100632Z
UID:9217-1772787600-1772812800@www.tchoukball.org.uk
SUMMARY:National Youth Finals 2026
DESCRIPTION:
URL:https://www.tchoukball.org.uk/events/national-youth-finals-2026/
LOCATION:Stoke Mandeville Stadium\, Guttmann Rd\, Aylesbury\, HP21 9PP\, United Kingdom
CATEGORIES:Competitions,Special
ORGANIZER;CN="Tom McKeen":MAILTO:thomas.mckeen@tchoukball.org.uk
END:VEVENT
BEGIN:VEVENT
DTSTART;TZID=Europe/London:20260222T100000
DTEND;TZID=Europe/London:20260222T150000
DTSTAMP:20260421T235231
CREATED:20251006T170000Z
LAST-MODIFIED:20251006T114009Z
UID:9359-1771754400-1771772400@www.tchoukball.org.uk
SUMMARY:South East Regional League Round 3
DESCRIPTION:
URL:https://www.tchoukball.org.uk/events/south-east-regional-league-round-3-2526/
LOCATION:Portsmouth High School\, 25 Kent Rd\, Southsea\, Portsmouth\, Hampshire\, PO53EQ\, United Kingdom
CATEGORIES:Competitions
ORGANIZER;CN="Tom McKeen":MAILTO:thomas.mckeen@tchoukball.org.uk
END:VEVENT
BEGIN:VEVENT
DTSTART;TZID=Europe/London:20260208T100000
DTEND;TZID=Europe/London:20260208T170000
DTSTAMP:20260421T235231
CREATED:20251006T170000Z
LAST-MODIFIED:20251006T112713Z
UID:9348-1770544800-1770570000@www.tchoukball.org.uk
SUMMARY:National League Round 3
DESCRIPTION:
URL:https://www.tchoukball.org.uk/events/national-league-round-3-2526/
LOCATION:Venue360 Luton\, 20 Gipsy Lane\, Luton\, LU1 3JH\, United Kingdom
CATEGORIES:Competitions
ORGANIZER;CN="Tom McKeen":MAILTO:thomas.mckeen@tchoukball.org.uk
END:VEVENT
BEGIN:VEVENT
DTSTART;TZID=Europe/London:20260125T100000
DTEND;TZID=Europe/London:20260125T150000
DTSTAMP:20260421T235231
CREATED:20251006T170000Z
LAST-MODIFIED:20251008T184923Z
UID:9358-1769335200-1769353200@www.tchoukball.org.uk
SUMMARY:South East Regional League Round 2
DESCRIPTION:
URL:https://www.tchoukball.org.uk/events/south-east-regional-league-round-2-2526/
LOCATION:Portsmouth High School\, 25 Kent Rd\, Southsea\, Portsmouth\, Hampshire\, PO53EQ\, United Kingdom
CATEGORIES:Competitions
ORGANIZER;CN="Tom McKeen":MAILTO:thomas.mckeen@tchoukball.org.uk
END:VEVENT
BEGIN:VEVENT
DTSTART;TZID=Europe/London:20260111T100000
DTEND;TZID=Europe/London:20260111T170000
DTSTAMP:20260421T235231
CREATED:20251006T170000Z
LAST-MODIFIED:20251006T112124Z
UID:9346-1768125600-1768150800@www.tchoukball.org.uk
SUMMARY:National League Round 2
DESCRIPTION:
URL:https://www.tchoukball.org.uk/events/national-league-round-2-2526/
LOCATION:Venue360 Luton\, 20 Gipsy Lane\, Luton\, LU1 3JH\, United Kingdom
CATEGORIES:Competitions
ORGANIZER;CN="Tom McKeen":MAILTO:thomas.mckeen@tchoukball.org.uk
END:VEVENT
BEGIN:VEVENT
DTSTART;TZID=Europe/London:20251207T100000
DTEND;TZID=Europe/London:20251207T160000
DTSTAMP:20260421T235231
CREATED:20250804T100135Z
LAST-MODIFIED:20250804T100538Z
UID:9213-1765101600-1765123200@www.tchoukball.org.uk
SUMMARY:Team UK Squad Training
DESCRIPTION:
URL:https://www.tchoukball.org.uk/events/team-uk-squad-training-22/
LOCATION:Venue360 Luton\, 20 Gipsy Lane\, Luton\, LU1 3JH\, United Kingdom
CATEGORIES:Team UK
ORGANIZER;CN="Richard Jackson":MAILTO:richard.jackson@tchoukball.org.uk
END:VEVENT
BEGIN:VEVENT
DTSTART;TZID=Europe/London:20251123T100000
DTEND;TZID=Europe/London:20251123T170000
DTSTAMP:20260421T235231
CREATED:20251006T170000Z
LAST-MODIFIED:20251006T114005Z
UID:9357-1763892000-1763917200@www.tchoukball.org.uk
SUMMARY:South East Regional League Round 1
DESCRIPTION:
URL:https://www.tchoukball.org.uk/events/south-east-regional-league-round-1-2526/
LOCATION:Portsmouth High School\, 25 Kent Rd\, Southsea\, Portsmouth\, Hampshire\, PO53EQ\, United Kingdom
CATEGORIES:Competitions
ORGANIZER;CN="Tom McKeen":MAILTO:thomas.mckeen@tchoukball.org.uk
END:VEVENT
BEGIN:VEVENT
DTSTART;TZID=Europe/London:20251116T100000
DTEND;TZID=Europe/London:20251116T170000
DTSTAMP:20260421T235231
CREATED:20250804T170000Z
LAST-MODIFIED:20251006T112213Z
UID:9215-1763287200-1763312400@www.tchoukball.org.uk
SUMMARY:National League Round 1
DESCRIPTION:
URL:https://www.tchoukball.org.uk/events/national-league-round1-2526/
LOCATION:Venue360 Luton\, 20 Gipsy Lane\, Luton\, LU1 3JH\, United Kingdom
CATEGORIES:Competitions
ORGANIZER;CN="Tom McKeen":MAILTO:thomas.mckeen@tchoukball.org.uk
END:VEVENT
BEGIN:VEVENT
DTSTART;TZID=Europe/London:20251025T000000
DTEND;TZID=Europe/London:20251026T235959
DTSTAMP:20260421T235231
CREATED:20250516T073851Z
LAST-MODIFIED:20250516T073926Z
UID:9161-1761350400-1761523199@www.tchoukball.org.uk
SUMMARY:Domini Fox Memorial Tournament
DESCRIPTION:
URL:https://www.tchoukball.org.uk/events/domini-fox-memorial-tournament-5/
LOCATION:Mountbatten Centre\, Alex Way\, Hilsea\, Portsmouth\, NH\, PO2 9QA
CATEGORIES:Competitions,Special
ORGANIZER;CN="Tom McKeen":MAILTO:thomas.mckeen@tchoukball.org.uk
END:VEVENT
BEGIN:VEVENT
DTSTART;TZID=Europe/London:20251019T100000
DTEND;TZID=Europe/London:20251019T160000
DTSTAMP:20260421T235231
CREATED:20250804T100020Z
LAST-MODIFIED:20250804T100544Z
UID:9211-1760868000-1760889600@www.tchoukball.org.uk
SUMMARY:Team UK Squad Training
DESCRIPTION:
URL:https://www.tchoukball.org.uk/events/team-uk-squad-training-21/
LOCATION:Venue360 Luton\, 20 Gipsy Lane\, Luton\, LU1 3JH\, United Kingdom
CATEGORIES:Team UK
ORGANIZER;CN="Richard Jackson":MAILTO:richard.jackson@tchoukball.org.uk
END:VEVENT
BEGIN:VEVENT
DTSTART;TZID=Europe/London:20250921T100000
DTEND;TZID=Europe/London:20250921T150000
DTSTAMP:20260421T235231
CREATED:20250804T100741Z
LAST-MODIFIED:20250804T100840Z
UID:9219-1758448800-1758466800@www.tchoukball.org.uk
SUMMARY:National League Cup
DESCRIPTION:
URL:https://www.tchoukball.org.uk/events/national-league-cup-5/
LOCATION:Venue360 Luton\, 20 Gipsy Lane\, Luton\, LU1 3JH\, United Kingdom
CATEGORIES:Competitions
ORGANIZER;CN="Tom McKeen":MAILTO:thomas.mckeen@tchoukball.org.uk
END:VEVENT
BEGIN:VEVENT
DTSTART;TZID=Europe/London:20250914T100000
DTEND;TZID=Europe/London:20250914T160000
DTSTAMP:20260421T235231
CREATED:20250804T095910Z
LAST-MODIFIED:20250804T100601Z
UID:9209-1757844000-1757865600@www.tchoukball.org.uk
SUMMARY:Team UK Squad Training
DESCRIPTION:
URL:https://www.tchoukball.org.uk/events/team-uk-squad-training-20/
LOCATION:Venue360 Luton\, 20 Gipsy Lane\, Luton\, LU1 3JH\, United Kingdom
CATEGORIES:Team UK
ORGANIZER;CN="Richard Jackson":MAILTO:richard.jackson@tchoukball.org.uk
END:VEVENT
BEGIN:VEVENT
DTSTART;TZID=Europe/London:20250817T100000
DTEND;TZID=Europe/London:20250817T160000
DTSTAMP:20260421T235231
CREATED:20250516T073529Z
LAST-MODIFIED:20250516T073546Z
UID:9159-1755424800-1755446400@www.tchoukball.org.uk
SUMMARY:Team UK Squad Training
DESCRIPTION:
URL:https://www.tchoukball.org.uk/events/team-uk-squad-training-19/
LOCATION:Venue360 Luton\, 20 Gipsy Lane\, Luton\, LU1 3JH\, United Kingdom
CATEGORIES:Team UK
ORGANIZER;CN="Richard Jackson":MAILTO:richard.jackson@tchoukball.org.uk
END:VEVENT
BEGIN:VEVENT
DTSTART;TZID=Europe/London:20250720T120000
DTEND;TZID=Europe/London:20250720T180000
DTSTAMP:20260421T235231
CREATED:20250516T073441Z
LAST-MODIFIED:20250516T073552Z
UID:9157-1753012800-1753034400@www.tchoukball.org.uk
SUMMARY:Team UK Squad Training
DESCRIPTION:
URL:https://www.tchoukball.org.uk/events/team-uk-squad-training-18/
LOCATION:Venue360 Luton\, 20 Gipsy Lane\, Luton\, LU1 3JH\, United Kingdom
CATEGORIES:Team UK
ORGANIZER;CN="Richard Jackson":MAILTO:richard.jackson@tchoukball.org.uk
END:VEVENT
BEGIN:VEVENT
DTSTART;TZID=Europe/London:20250713T100000
DTEND;TZID=Europe/London:20250713T160000
DTSTAMP:20260421T235231
CREATED:20250407T181049Z
LAST-MODIFIED:20250407T181108Z
UID:9056-1752400800-1752422400@www.tchoukball.org.uk
SUMMARY:Team UK Youth Squad Trials
DESCRIPTION:
URL:https://www.tchoukball.org.uk/events/team-uk-youth-squad-trials/
LOCATION:Venue360 Luton\, 20 Gipsy Lane\, Luton\, LU1 3JH\, United Kingdom
CATEGORIES:Team UK
ORGANIZER;CN="Ian Parker":MAILTO:ian.parker@tchoukball.org.uk
END:VEVENT
BEGIN:VEVENT
DTSTART;TZID=Europe/London:20250621T090000
DTEND;TZID=Europe/London:20250621T180000
DTSTAMP:20260421T235231
CREATED:20250407T181235Z
LAST-MODIFIED:20250407T181332Z
UID:9058-1750496400-1750528800@www.tchoukball.org.uk
SUMMARY:Finals Day 2025
DESCRIPTION:
URL:https://www.tchoukball.org.uk/events/finals-day-2025/
LOCATION:Venue360 Luton\, 20 Gipsy Lane\, Luton\, LU1 3JH\, United Kingdom
CATEGORIES:Competitions,Special
ORGANIZER;CN="Tom McKeen":MAILTO:thomas.mckeen@tchoukball.org.uk
END:VEVENT
BEGIN:VEVENT
DTSTART;TZID=Europe/London:20250518T100000
DTEND;TZID=Europe/London:20250518T170000
DTSTAMP:20260421T235231
CREATED:20250407T180645Z
LAST-MODIFIED:20250407T180733Z
UID:9054-1747562400-1747587600@www.tchoukball.org.uk
SUMMARY:Team UK Squad Trials
DESCRIPTION:
URL:https://www.tchoukball.org.uk/events/team-uk-squad-trials-3/
LOCATION:Venue360 Luton\, 20 Gipsy Lane\, Luton\, LU1 3JH\, United Kingdom
CATEGORIES:Team UK
ORGANIZER;CN="Richard Jackson":MAILTO:richard.jackson@tchoukball.org.uk
END:VEVENT
BEGIN:VEVENT
DTSTART;TZID=Europe/London:20250425T100000
DTEND;TZID=Europe/London:20250425T170000
DTSTAMP:20260421T235231
CREATED:20241002T175643Z
LAST-MODIFIED:20241002T175756Z
UID:8552-1745575200-1745600400@www.tchoukball.org.uk
SUMMARY:National Youth Finals 2025
DESCRIPTION:
URL:https://www.tchoukball.org.uk/events/national-youth-finals-2025/
LOCATION:Stoke Mandeville Stadium\, Guttmann Rd\, Aylesbury\, HP21 9PP\, United Kingdom
CATEGORIES:Competitions,Special
ORGANIZER;CN="Tom McKeen":MAILTO:thomas.mckeen@tchoukball.org.uk
END:VEVENT
BEGIN:VEVENT
DTSTART;TZID=Europe/London:20250406T090000
DTEND;TZID=Europe/London:20250406T180000
DTSTAMP:20260421T235231
CREATED:20250407T175848Z
LAST-MODIFIED:20250407T180747Z
UID:9048-1743930000-1743962400@www.tchoukball.org.uk
SUMMARY:National League Round 5
DESCRIPTION:
URL:https://www.tchoukball.org.uk/events/national-league-round-5-4/
LOCATION:Venue360 Luton\, 20 Gipsy Lane\, Luton\, LU1 3JH\, United Kingdom
CATEGORIES:Competitions
ORGANIZER;CN="Tom McKeen":MAILTO:thomas.mckeen@tchoukball.org.uk
END:VEVENT
BEGIN:VEVENT
DTSTART;TZID=Europe/London:20250309T100000
DTEND;TZID=Europe/London:20250309T150000
DTSTAMP:20260421T235231
CREATED:20241003T070000Z
LAST-MODIFIED:20241002T175307Z
UID:8548-1741514400-1741532400@www.tchoukball.org.uk
SUMMARY:South East Regional League Round 4
DESCRIPTION:
URL:https://www.tchoukball.org.uk/events/south-east-regional-league-round-4-3/
LOCATION:Fareham Academy\, St Anne's Grove\, Fareham\, Hampshire\, PO14 1JJ
CATEGORIES:Competitions
ORGANIZER;CN="Tom McKeen":MAILTO:thomas.mckeen@tchoukball.org.uk
END:VEVENT
BEGIN:VEVENT
DTSTART;TZID=Europe/London:20250302T090000
DTEND;TZID=Europe/London:20250302T180000
DTSTAMP:20260421T235231
CREATED:20240902T161820Z
LAST-MODIFIED:20250407T175847Z
UID:8514-1740906000-1740938400@www.tchoukball.org.uk
SUMMARY:National League Round 4
DESCRIPTION:
URL:https://www.tchoukball.org.uk/events/national-league-round-4-4/
LOCATION:Venue360 Luton\, 20 Gipsy Lane\, Luton\, LU1 3JH\, United Kingdom
CATEGORIES:Competitions
ORGANIZER;CN="Tom McKeen":MAILTO:thomas.mckeen@tchoukball.org.uk
END:VEVENT
BEGIN:VEVENT
DTSTART;TZID=Europe/London:20250216T100000
DTEND;TZID=Europe/London:20250216T150000
DTSTAMP:20260421T235231
CREATED:20241003T070000Z
LAST-MODIFIED:20241002T175301Z
UID:8546-1739700000-1739718000@www.tchoukball.org.uk
SUMMARY:South East Regional League Round 3
DESCRIPTION:
URL:https://www.tchoukball.org.uk/events/south-east-regional-league-round-3-3/
LOCATION:Fareham Academy\, St Anne's Grove\, Fareham\, Hampshire\, PO14 1JJ
CATEGORIES:Competitions
ORGANIZER;CN="Tom McKeen":MAILTO:thomas.mckeen@tchoukball.org.uk
END:VEVENT
BEGIN:VEVENT
DTSTART;TZID=Europe/London:20250202T090000
DTEND;TZID=Europe/London:20250202T180000
DTSTAMP:20260421T235231
CREATED:20240902T161820Z
LAST-MODIFIED:20250407T180011Z
UID:8513-1738486800-1738519200@www.tchoukball.org.uk
SUMMARY:National League Round 3
DESCRIPTION:
URL:https://www.tchoukball.org.uk/events/national-league-round-3-4/
LOCATION:Venue360 Luton\, 20 Gipsy Lane\, Luton\, LU1 3JH\, United Kingdom
CATEGORIES:Competitions
ORGANIZER;CN="Tom McKeen":MAILTO:thomas.mckeen@tchoukball.org.uk
END:VEVENT
BEGIN:VEVENT
DTSTART;TZID=Europe/London:20250119T090000
DTEND;TZID=Europe/London:20250119T180000
DTSTAMP:20260421T235231
CREATED:20240902T161820Z
LAST-MODIFIED:20250407T180023Z
UID:8512-1737277200-1737309600@www.tchoukball.org.uk
SUMMARY:National League Round 2
DESCRIPTION:
URL:https://www.tchoukball.org.uk/events/national-league-round-2-3/
LOCATION:Venue360 Luton\, 20 Gipsy Lane\, Luton\, LU1 3JH\, United Kingdom
CATEGORIES:Competitions
ORGANIZER;CN="Tom McKeen":MAILTO:thomas.mckeen@tchoukball.org.uk
END:VEVENT
BEGIN:VEVENT
DTSTART;TZID=Europe/London:20250112T100000
DTEND;TZID=Europe/London:20250112T150000
DTSTAMP:20260421T235231
CREATED:20241003T070000Z
LAST-MODIFIED:20241002T175251Z
UID:8544-1736676000-1736694000@www.tchoukball.org.uk
SUMMARY:South East Regional League Round 2
DESCRIPTION:
URL:https://www.tchoukball.org.uk/events/south-east-regional-league-round-2-3/
LOCATION:Fareham Academy\, St Anne's Grove\, Fareham\, Hampshire\, PO14 1JJ
CATEGORIES:Competitions
ORGANIZER;CN="Tom McKeen":MAILTO:thomas.mckeen@tchoukball.org.uk
END:VEVENT
BEGIN:VEVENT
DTSTART;TZID=Europe/London:20241208T100000
DTEND;TZID=Europe/London:20241208T170000
DTSTAMP:20260421T235231
CREATED:20240902T161820Z
LAST-MODIFIED:20240902T161820Z
UID:8519-1733652000-1733677200@www.tchoukball.org.uk
SUMMARY:Team UK Squad Training
DESCRIPTION:
URL:https://www.tchoukball.org.uk/events/team-uk-squad-training-16/
LOCATION:Venue360 Luton\, 20 Gipsy Lane\, Luton\, LU1 3JH\, United Kingdom
CATEGORIES:Team UK
ORGANIZER;CN="Richard Jackson":MAILTO:richard.jackson@tchoukball.org.uk
END:VEVENT
BEGIN:VEVENT
DTSTART;TZID=Europe/London:20241124T100000
DTEND;TZID=Europe/London:20241124T150000
DTSTAMP:20260421T235231
CREATED:20241003T070000Z
LAST-MODIFIED:20241002T175246Z
UID:8542-1732442400-1732460400@www.tchoukball.org.uk
SUMMARY:South East Regional League Round 1
DESCRIPTION:
URL:https://www.tchoukball.org.uk/events/south-east-regional-league-round-1-2/
LOCATION:Mountbatten Centre\, Alex Way\, Hilsea\, Portsmouth\, NH\, PO2 9QA
CATEGORIES:Competitions
ORGANIZER;CN="Tom McKeen":MAILTO:thomas.mckeen@tchoukball.org.uk
END:VEVENT
BEGIN:VEVENT
DTSTART;TZID=Europe/London:20241117T090000
DTEND;TZID=Europe/London:20241117T180000
DTSTAMP:20260421T235231
CREATED:20240902T161820Z
LAST-MODIFIED:20250407T180028Z
UID:8510-1731834000-1731866400@www.tchoukball.org.uk
SUMMARY:National League Round 1
DESCRIPTION:
URL:https://www.tchoukball.org.uk/events/national-league-round-1-4/
LOCATION:Venue360 Luton\, 20 Gipsy Lane\, Luton\, LU1 3JH\, United Kingdom
CATEGORIES:Competitions
ORGANIZER;CN="Tom McKeen":MAILTO:thomas.mckeen@tchoukball.org.uk
END:VEVENT
BEGIN:VEVENT
DTSTART;TZID=Europe/London:20241026T000000
DTEND;TZID=Europe/London:20241027T235959
DTSTAMP:20260421T235231
CREATED:20240902T161820Z
LAST-MODIFIED:20240902T161820Z
UID:8508-1729900800-1730073599@www.tchoukball.org.uk
SUMMARY:Domini Fox Memorial Tournament
DESCRIPTION:
URL:https://www.tchoukball.org.uk/events/domini-fox-memorial-tournament-4/
LOCATION:Mountbatten Centre\, Alex Way\, Hilsea\, Portsmouth\, NH\, PO2 9QA
CATEGORIES:Competitions,Special
ORGANIZER;CN="Tom McKeen":MAILTO:thomas.mckeen@tchoukball.org.uk
END:VEVENT
END:VCALENDAR