BEGIN:VCALENDAR
VERSION:2.0
PRODID:-//Tchoukball UK - ECPv6.15.20//NONSGML v1.0//EN
CALSCALE:GREGORIAN
METHOD:PUBLISH
X-ORIGINAL-URL:https://www.tchoukball.org.uk
X-WR-CALDESC:Events for Tchoukball UK
REFRESH-INTERVAL;VALUE=DURATION:PT1H
X-Robots-Tag:noindex
X-PUBLISHED-TTL:PT1H
BEGIN:VTIMEZONE
TZID:Europe/London
BEGIN:DAYLIGHT
TZOFFSETFROM:+0000
TZOFFSETTO:+0100
TZNAME:BST
DTSTART:20250330T010000
END:DAYLIGHT
BEGIN:STANDARD
TZOFFSETFROM:+0100
TZOFFSETTO:+0000
TZNAME:GMT
DTSTART:20251026T010000
END:STANDARD
BEGIN:DAYLIGHT
TZOFFSETFROM:+0000
TZOFFSETTO:+0100
TZNAME:BST
DTSTART:20260329T010000
END:DAYLIGHT
BEGIN:STANDARD
TZOFFSETFROM:+0100
TZOFFSETTO:+0000
TZNAME:GMT
DTSTART:20261025T010000
END:STANDARD
BEGIN:DAYLIGHT
TZOFFSETFROM:+0000
TZOFFSETTO:+0100
TZNAME:BST
DTSTART:20270328T010000
END:DAYLIGHT
BEGIN:STANDARD
TZOFFSETFROM:+0100
TZOFFSETTO:+0000
TZNAME:GMT
DTSTART:20271031T010000
END:STANDARD
END:VTIMEZONE
BEGIN:VEVENT
DTSTART;TZID=Europe/London:20260222T100000
DTEND;TZID=Europe/London:20260222T150000
DTSTAMP:20260425T165930
CREATED:20251006T170000Z
LAST-MODIFIED:20251006T114009Z
UID:9359-1771754400-1771772400@www.tchoukball.org.uk
SUMMARY:South East Regional League Round 3
DESCRIPTION:
URL:https://www.tchoukball.org.uk/events/south-east-regional-league-round-3-2526/
LOCATION:Portsmouth High School\, 25 Kent Rd\, Southsea\, Portsmouth\, Hampshire\, PO53EQ\, United Kingdom
CATEGORIES:Competitions
ORGANIZER;CN="Tom McKeen":MAILTO:thomas.mckeen@tchoukball.org.uk
END:VEVENT
BEGIN:VEVENT
DTSTART;TZID=Europe/London:20260306T090000
DTEND;TZID=Europe/London:20260306T160000
DTSTAMP:20260425T165930
CREATED:20250804T100503Z
LAST-MODIFIED:20250804T100632Z
UID:9217-1772787600-1772812800@www.tchoukball.org.uk
SUMMARY:National Youth Finals 2026
DESCRIPTION:
URL:https://www.tchoukball.org.uk/events/national-youth-finals-2026/
LOCATION:Stoke Mandeville Stadium\, Guttmann Rd\, Aylesbury\, HP21 9PP\, United Kingdom
CATEGORIES:Competitions,Special
ORGANIZER;CN="Tom McKeen":MAILTO:thomas.mckeen@tchoukball.org.uk
END:VEVENT
BEGIN:VEVENT
DTSTART;TZID=Europe/London:20260308T100000
DTEND;TZID=Europe/London:20260308T150000
DTSTAMP:20260425T165930
CREATED:20251006T170000Z
LAST-MODIFIED:20251006T114013Z
UID:9360-1772964000-1772982000@www.tchoukball.org.uk
SUMMARY:South East Regional League Round 4
DESCRIPTION:
URL:https://www.tchoukball.org.uk/events/south-east-regional-league-round-4-2526/
LOCATION:Fareham Academy\, St Anne's Grove\, Fareham\, Hampshire\, PO14 1JJ
CATEGORIES:Competitions
ORGANIZER;CN="Tom McKeen":MAILTO:thomas.mckeen@tchoukball.org.uk
END:VEVENT
BEGIN:VEVENT
DTSTART;TZID=Europe/London:20260412T100000
DTEND;TZID=Europe/London:20260412T170000
DTSTAMP:20260425T165930
CREATED:20251006T170000Z
LAST-MODIFIED:20251006T112716Z
UID:9349-1775988000-1776013200@www.tchoukball.org.uk
SUMMARY:National League Round 4
DESCRIPTION:
URL:https://www.tchoukball.org.uk/events/national-league-round-4-2526/
LOCATION:Venue360 Luton\, 20 Gipsy Lane\, Luton\, LU1 3JH\, United Kingdom
CATEGORIES:Competitions
ORGANIZER;CN="Tom McKeen":MAILTO:thomas.mckeen@tchoukball.org.uk
END:VEVENT
BEGIN:VEVENT
DTSTART;TZID=Europe/London:20260426T100000
DTEND;TZID=Europe/London:20260426T170000
DTSTAMP:20260425T165930
CREATED:20251006T170000Z
LAST-MODIFIED:20251006T112718Z
UID:9350-1777197600-1777222800@www.tchoukball.org.uk
SUMMARY:National League Round 5
DESCRIPTION:
URL:https://www.tchoukball.org.uk/events/national-league-round-5-2526/
LOCATION:Venue360 Luton\, 20 Gipsy Lane\, Luton\, LU1 3JH\, United Kingdom
CATEGORIES:Competitions
ORGANIZER;CN="Tom McKeen":MAILTO:thomas.mckeen@tchoukball.org.uk
END:VEVENT
END:VCALENDAR