BEGIN:VCALENDAR
VERSION:2.0
PRODID:-//Tchoukball UK - ECPv6.15.20//NONSGML v1.0//EN
CALSCALE:GREGORIAN
METHOD:PUBLISH
X-WR-CALNAME:Tchoukball UK
X-ORIGINAL-URL:https://www.tchoukball.org.uk
X-WR-CALDESC:Events for Tchoukball UK
REFRESH-INTERVAL;VALUE=DURATION:PT1H
X-Robots-Tag:noindex
X-PUBLISHED-TTL:PT1H
BEGIN:VTIMEZONE
TZID:Europe/London
BEGIN:DAYLIGHT
TZOFFSETFROM:+0000
TZOFFSETTO:+0100
TZNAME:BST
DTSTART:20220327T010000
END:DAYLIGHT
BEGIN:STANDARD
TZOFFSETFROM:+0100
TZOFFSETTO:+0000
TZNAME:GMT
DTSTART:20221030T010000
END:STANDARD
BEGIN:DAYLIGHT
TZOFFSETFROM:+0000
TZOFFSETTO:+0100
TZNAME:BST
DTSTART:20230326T010000
END:DAYLIGHT
BEGIN:STANDARD
TZOFFSETFROM:+0100
TZOFFSETTO:+0000
TZNAME:GMT
DTSTART:20231029T010000
END:STANDARD
BEGIN:DAYLIGHT
TZOFFSETFROM:+0000
TZOFFSETTO:+0100
TZNAME:BST
DTSTART:20240331T010000
END:DAYLIGHT
BEGIN:STANDARD
TZOFFSETFROM:+0100
TZOFFSETTO:+0000
TZNAME:GMT
DTSTART:20241027T010000
END:STANDARD
BEGIN:DAYLIGHT
TZOFFSETFROM:+0000
TZOFFSETTO:+0100
TZNAME:BST
DTSTART:20250330T010000
END:DAYLIGHT
BEGIN:STANDARD
TZOFFSETFROM:+0100
TZOFFSETTO:+0000
TZNAME:GMT
DTSTART:20251026T010000
END:STANDARD
END:VTIMEZONE
BEGIN:VEVENT
DTSTART;TZID=Europe/London:20241026T000000
DTEND;TZID=Europe/London:20241027T235959
DTSTAMP:20260421T123407
CREATED:20240902T161820Z
LAST-MODIFIED:20240902T161820Z
UID:8508-1729900800-1730073599@www.tchoukball.org.uk
SUMMARY:Domini Fox Memorial Tournament
DESCRIPTION:
URL:https://www.tchoukball.org.uk/events/domini-fox-memorial-tournament-4/
LOCATION:Mountbatten Centre\, Alex Way\, Hilsea\, Portsmouth\, NH\, PO2 9QA
CATEGORIES:Competitions,Special
ORGANIZER;CN="Tom McKeen":MAILTO:thomas.mckeen@tchoukball.org.uk
END:VEVENT
BEGIN:VEVENT
DTSTART;TZID=Europe/London:20241013T100000
DTEND;TZID=Europe/London:20241013T170000
DTSTAMP:20260421T123407
CREATED:20240902T161820Z
LAST-MODIFIED:20240902T161820Z
UID:8518-1728813600-1728838800@www.tchoukball.org.uk
SUMMARY:Team UK Squad Training
DESCRIPTION:
URL:https://www.tchoukball.org.uk/events/team-uk-squad-training-17/
LOCATION:Venue360 Luton\, 20 Gipsy Lane\, Luton\, LU1 3JH\, United Kingdom
CATEGORIES:Team UK
ORGANIZER;CN="Richard Jackson":MAILTO:richard.jackson@tchoukball.org.uk
END:VEVENT
BEGIN:VEVENT
DTSTART;TZID=Europe/London:20241006T120000
DTEND;TZID=Europe/London:20241006T160000
DTSTAMP:20260421T123407
CREATED:20241002T175004Z
LAST-MODIFIED:20241002T175240Z
UID:8550-1728216000-1728230400@www.tchoukball.org.uk
SUMMARY:National League Cup
DESCRIPTION:
URL:https://www.tchoukball.org.uk/events/national-league-cup-4/
LOCATION:Venue360 Luton\, 20 Gipsy Lane\, Luton\, LU1 3JH\, United Kingdom
CATEGORIES:Competitions
ORGANIZER;CN="Tom McKeen":MAILTO:thomas.mckeen@tchoukball.org.uk
END:VEVENT
BEGIN:VEVENT
DTSTART;TZID=Europe/London:20240929T100000
DTEND;TZID=Europe/London:20240929T160000
DTSTAMP:20260421T123407
CREATED:20240902T161821Z
LAST-MODIFIED:20240902T161821Z
UID:8524-1727604000-1727625600@www.tchoukball.org.uk
SUMMARY:Tchoukball UK General Assembly
DESCRIPTION:
URL:https://www.tchoukball.org.uk/events/tchoukball-uk-general-assembly-2/
CATEGORIES:Governance
ORGANIZER;CN="Richard Jackson":MAILTO:richard.jackson@tchoukball.org.uk
END:VEVENT
BEGIN:VEVENT
DTSTART;TZID=Europe/London:20240714T100000
DTEND;TZID=Europe/London:20240714T170000
DTSTAMP:20260421T123407
CREATED:20230904T105800Z
LAST-MODIFIED:20230906T082107Z
UID:7470-1720951200-1720976400@www.tchoukball.org.uk
SUMMARY:Team UK Squad Training
DESCRIPTION:
URL:https://www.tchoukball.org.uk/events/team-uk-squad-training-15/
LOCATION:Venue360 Luton\, 20 Gipsy Lane\, Luton\, LU1 3JH\, United Kingdom
CATEGORIES:Team UK
ORGANIZER;CN="Richard Jackson":MAILTO:richard.jackson@tchoukball.org.uk
END:VEVENT
BEGIN:VEVENT
DTSTART;TZID=Europe/London:20240630T100000
DTEND;TZID=Europe/London:20240630T170000
DTSTAMP:20260421T123407
CREATED:20230904T105626Z
LAST-MODIFIED:20230906T082115Z
UID:7468-1719741600-1719766800@www.tchoukball.org.uk
SUMMARY:Team UK Squad Training
DESCRIPTION:
URL:https://www.tchoukball.org.uk/events/team-uk-squad-training-14/
LOCATION:Venue360 Luton\, 20 Gipsy Lane\, Luton\, LU1 3JH\, United Kingdom
CATEGORIES:Team UK
ORGANIZER;CN="Richard Jackson":MAILTO:richard.jackson@tchoukball.org.uk
END:VEVENT
BEGIN:VEVENT
DTSTART;TZID=Europe/London:20240616T100000
DTEND;TZID=Europe/London:20240616T170000
DTSTAMP:20260421T123407
CREATED:20230904T105548Z
LAST-MODIFIED:20230906T082133Z
UID:7466-1718532000-1718557200@www.tchoukball.org.uk
SUMMARY:Team UK Squad Training
DESCRIPTION:
URL:https://www.tchoukball.org.uk/events/team-uk-squad-training-13/
LOCATION:Venue360 Luton\, 20 Gipsy Lane\, Luton\, LU1 3JH\, United Kingdom
CATEGORIES:Team UK
ORGANIZER;CN="Richard Jackson":MAILTO:richard.jackson@tchoukball.org.uk
END:VEVENT
BEGIN:VEVENT
DTSTART;TZID=Europe/London:20240602T100000
DTEND;TZID=Europe/London:20240602T170000
DTSTAMP:20260421T123407
CREATED:20230904T105505Z
LAST-MODIFIED:20230906T082137Z
UID:7464-1717322400-1717347600@www.tchoukball.org.uk
SUMMARY:Team UK Squad Training
DESCRIPTION:
URL:https://www.tchoukball.org.uk/events/team-uk-squad-training-12/
LOCATION:Venue360 Luton\, 20 Gipsy Lane\, Luton\, LU1 3JH\, United Kingdom
CATEGORIES:Team UK
ORGANIZER;CN="Richard Jackson":MAILTO:richard.jackson@tchoukball.org.uk
END:VEVENT
BEGIN:VEVENT
DTSTART;TZID=Europe/London:20240519T100000
DTEND;TZID=Europe/London:20240519T170000
DTSTAMP:20260421T123407
CREATED:20230904T105402Z
LAST-MODIFIED:20230906T082142Z
UID:7462-1716112800-1716138000@www.tchoukball.org.uk
SUMMARY:Team UK Squad Training
DESCRIPTION:
URL:https://www.tchoukball.org.uk/events/team-uk-squad-training-11/
LOCATION:Venue360 Luton\, 20 Gipsy Lane\, Luton\, LU1 3JH\, United Kingdom
CATEGORIES:Team UK
ORGANIZER;CN="Richard Jackson":MAILTO:richard.jackson@tchoukball.org.uk
END:VEVENT
BEGIN:VEVENT
DTSTART;TZID=Europe/London:20240511T000000
DTEND;TZID=Europe/London:20240512T235959
DTSTAMP:20260421T123407
CREATED:20230904T105305Z
LAST-MODIFIED:20230906T082150Z
UID:7459-1715385600-1715558399@www.tchoukball.org.uk
SUMMARY:Rimini Beach Festival
DESCRIPTION:
URL:https://www.tchoukball.org.uk/events/rimini-beach-festival/
LOCATION:Rimini\, Rimini\, Italy
CATEGORIES:Competitions,Special
END:VEVENT
BEGIN:VEVENT
DTSTART;TZID=Europe/London:20240505T100000
DTEND;TZID=Europe/London:20240505T170000
DTSTAMP:20260421T123407
CREATED:20230904T105052Z
LAST-MODIFIED:20230906T082203Z
UID:7457-1714903200-1714928400@www.tchoukball.org.uk
SUMMARY:Team UK Squad Training
DESCRIPTION:
URL:https://www.tchoukball.org.uk/events/team-uk-squad-training-10/
LOCATION:Venue360 Luton\, 20 Gipsy Lane\, Luton\, LU1 3JH\, United Kingdom
CATEGORIES:Team UK
ORGANIZER;CN="Richard Jackson":MAILTO:richard.jackson@tchoukball.org.uk
END:VEVENT
BEGIN:VEVENT
DTSTART;TZID=Europe/London:20240421T100000
DTEND;TZID=Europe/London:20240421T170000
DTSTAMP:20260421T123407
CREATED:20230904T104900Z
LAST-MODIFIED:20230906T082208Z
UID:7455-1713693600-1713718800@www.tchoukball.org.uk
SUMMARY:Team UK Squad Training
DESCRIPTION:
URL:https://www.tchoukball.org.uk/events/team-uk-squad-training-9/
LOCATION:Venue360 Luton\, 20 Gipsy Lane\, Luton\, LU1 3JH\, United Kingdom
CATEGORIES:Team UK
ORGANIZER;CN="Richard Jackson":MAILTO:richard.jackson@tchoukball.org.uk
END:VEVENT
BEGIN:VEVENT
DTSTART;TZID=Europe/London:20240420T100000
DTEND;TZID=Europe/London:20240420T170000
DTSTAMP:20260421T123407
CREATED:20230904T104726Z
LAST-MODIFIED:20230906T082216Z
UID:7451-1713607200-1713632400@www.tchoukball.org.uk
SUMMARY:Finals Day
DESCRIPTION:
URL:https://www.tchoukball.org.uk/events/finals-day/
LOCATION:Venue360 Luton\, 20 Gipsy Lane\, Luton\, LU1 3JH\, United Kingdom
CATEGORIES:Competitions,Special
ORGANIZER;CN="Tom McKeen":MAILTO:thomas.mckeen@tchoukball.org.uk
END:VEVENT
BEGIN:VEVENT
DTSTART;TZID=Europe/London:20240407T100000
DTEND;TZID=Europe/London:20240407T170000
DTSTAMP:20260421T123407
CREATED:20230904T104620Z
LAST-MODIFIED:20240129T160003Z
UID:7449-1712484000-1712509200@www.tchoukball.org.uk
SUMMARY:National League Round 4
DESCRIPTION:
URL:https://www.tchoukball.org.uk/events/national-league-round-5-3/
LOCATION:Venue360 Luton\, 20 Gipsy Lane\, Luton\, LU1 3JH\, United Kingdom
CATEGORIES:Competitions
ORGANIZER;CN="Tom McKeen":MAILTO:thomas.mckeen@tchoukball.org.uk
END:VEVENT
BEGIN:VEVENT
DTSTART;TZID=Europe/London:20240323T000000
DTEND;TZID=Europe/London:20240324T235959
DTSTAMP:20260421T123407
CREATED:20230904T104327Z
LAST-MODIFIED:20230906T082404Z
UID:7447-1711152000-1711324799@www.tchoukball.org.uk
SUMMARY:European Winners' Cup
DESCRIPTION:
URL:https://www.tchoukball.org.uk/events/european-winners-cup/
CATEGORIES:Competitions,Special
END:VEVENT
BEGIN:VEVENT
DTSTART;TZID=Europe/London:20240316T000000
DTEND;TZID=Europe/London:20240317T235959
DTSTAMP:20260421T123407
CREATED:20230904T104244Z
LAST-MODIFIED:20230906T082408Z
UID:7445-1710547200-1710719999@www.tchoukball.org.uk
SUMMARY:European Silver Cup
DESCRIPTION:
URL:https://www.tchoukball.org.uk/events/european-silver-cup/
CATEGORIES:Competitions,Special
END:VEVENT
BEGIN:VEVENT
DTSTART;TZID=Europe/London:20240310T100000
DTEND;TZID=Europe/London:20240310T150000
DTSTAMP:20260421T123407
CREATED:20230904T104108Z
LAST-MODIFIED:20230906T082304Z
UID:7443-1710064800-1710082800@www.tchoukball.org.uk
SUMMARY:South East Regional League Round 4
DESCRIPTION:
URL:https://www.tchoukball.org.uk/events/south-east-regional-league-round-4-2/
LOCATION:Fareham Academy\, St Anne's Grove\, Fareham\, Hampshire\, PO14 1JJ
CATEGORIES:Competitions
ORGANIZER;CN="Tom McKeen":MAILTO:thomas.mckeen@tchoukball.org.uk
END:VEVENT
BEGIN:VEVENT
DTSTART;TZID=Europe/London:20240303T100000
DTEND;TZID=Europe/London:20240303T170000
DTSTAMP:20260421T123407
CREATED:20230904T103956Z
LAST-MODIFIED:20240129T155846Z
UID:7441-1709460000-1709485200@www.tchoukball.org.uk
SUMMARY:National League Round 3
DESCRIPTION:
URL:https://www.tchoukball.org.uk/events/national-league-round-4-3/
LOCATION:Venue360 Luton\, 20 Gipsy Lane\, Luton\, LU1 3JH\, United Kingdom
CATEGORIES:Competitions
ORGANIZER;CN="Tom McKeen":MAILTO:thomas.mckeen@tchoukball.org.uk
END:VEVENT
BEGIN:VEVENT
DTSTART;TZID=Europe/London:20240218T100000
DTEND;TZID=Europe/London:20240218T170000
DTSTAMP:20260421T123407
CREATED:20230904T103846Z
LAST-MODIFIED:20240129T155616Z
UID:7439-1708250400-1708275600@www.tchoukball.org.uk
SUMMARY:National League Round 2
DESCRIPTION:
URL:https://www.tchoukball.org.uk/events/national-league-round-3-3/
LOCATION:Venue360 Luton\, 20 Gipsy Lane\, Luton\, LU1 3JH\, United Kingdom
CATEGORIES:Competitions
ORGANIZER;CN="Tom McKeen":MAILTO:thomas.mckeen@tchoukball.org.uk
END:VEVENT
BEGIN:VEVENT
DTSTART;TZID=Europe/London:20240204T100000
DTEND;TZID=Europe/London:20240204T150000
DTSTAMP:20260421T123407
CREATED:20230904T103511Z
LAST-MODIFIED:20230906T082251Z
UID:7435-1707040800-1707058800@www.tchoukball.org.uk
SUMMARY:South East Regional League Round 3
DESCRIPTION:
URL:https://www.tchoukball.org.uk/events/south-east-regional-league-round-3-2/
LOCATION:Fareham Academy\, St Anne's Grove\, Fareham\, Hampshire\, PO14 1JJ
CATEGORIES:Competitions
ORGANIZER;CN="Tom McKeen":MAILTO:thomas.mckeen@tchoukball.org.uk
END:VEVENT
BEGIN:VEVENT
DTSTART;TZID=Europe/London:20240121T100000
DTEND;TZID=Europe/London:20240121T170000
DTSTAMP:20260421T123407
CREATED:20230904T103244Z
LAST-MODIFIED:20231213T145946Z
UID:7432-1705831200-1705856400@www.tchoukball.org.uk
SUMMARY:Team UK Youth Squad Trials
DESCRIPTION:
URL:https://www.tchoukball.org.uk/events/team-uk-youth-squad-trials-2024/
LOCATION:Venue360 Luton\, 20 Gipsy Lane\, Luton\, LU1 3JH\, United Kingdom
CATEGORIES:Competitions
ORGANIZER;CN="Tom McKeen":MAILTO:thomas.mckeen@tchoukball.org.uk
END:VEVENT
BEGIN:VEVENT
DTSTART;TZID=Europe/London:20240107T100000
DTEND;TZID=Europe/London:20240107T150000
DTSTAMP:20260421T123407
CREATED:20230904T102529Z
LAST-MODIFIED:20230906T082233Z
UID:7421-1704621600-1704639600@www.tchoukball.org.uk
SUMMARY:South East Regional League Round 2
DESCRIPTION:
URL:https://www.tchoukball.org.uk/events/south-east-regional-league-round-2-2/
LOCATION:Fareham Academy\, St Anne's Grove\, Fareham\, Hampshire\, PO14 1JJ
CATEGORIES:Competitions
ORGANIZER;CN="Tom McKeen":MAILTO:thomas.mckeen@tchoukball.org.uk
END:VEVENT
BEGIN:VEVENT
DTSTART;TZID=Europe/London:20231216T000000
DTEND;TZID=Europe/London:20231217T235959
DTSTAMP:20260421T123407
CREATED:20230904T103028Z
LAST-MODIFIED:20230906T082241Z
UID:7430-1702684800-1702857599@www.tchoukball.org.uk
SUMMARY:Geneva Indoors Senior Tournament 2023
DESCRIPTION:
URL:https://www.tchoukball.org.uk/events/geneva-indoors-senior-tournament-2023/
LOCATION:Geneva Indoors\, Geneva\, Switzerland
CATEGORIES:Team UK
ORGANIZER;CN="Richard Jackson":MAILTO:richard.jackson@tchoukball.org.uk
END:VEVENT
BEGIN:VEVENT
DTSTART;TZID=Europe/London:20231209T000000
DTEND;TZID=Europe/London:20231210T235959
DTSTAMP:20260421T123407
CREATED:20230904T102714Z
LAST-MODIFIED:20230906T082245Z
UID:7423-1702080000-1702252799@www.tchoukball.org.uk
SUMMARY:Geneva Indoors Youth Tournament 2023
DESCRIPTION:
URL:https://www.tchoukball.org.uk/events/geneva-indoors-youth-tournament-2023/
LOCATION:Geneva Indoors\, Geneva\, Switzerland
CATEGORIES:Team UK
ORGANIZER;CN="Richard Jackson":MAILTO:richard.jackson@tchoukball.org.uk
END:VEVENT
BEGIN:VEVENT
DTSTART;TZID=Europe/London:20231203T100000
DTEND;TZID=Europe/London:20231203T170000
DTSTAMP:20260421T123407
CREATED:20230904T101226Z
LAST-MODIFIED:20230906T082446Z
UID:7409-1701597600-1701622800@www.tchoukball.org.uk
SUMMARY:Team UK Squad Trials
DESCRIPTION:
URL:https://www.tchoukball.org.uk/events/team-uk-squad-trials-2/
LOCATION:Venue360 Luton\, 20 Gipsy Lane\, Luton\, LU1 3JH\, United Kingdom
CATEGORIES:Team UK
ORGANIZER;CN="Richard Jackson":MAILTO:richard.jackson@tchoukball.org.uk
END:VEVENT
BEGIN:VEVENT
DTSTART;TZID=Europe/London:20231119T100000
DTEND;TZID=Europe/London:20231119T150000
DTSTAMP:20260421T123407
CREATED:20230904T124923Z
LAST-MODIFIED:20230906T082455Z
UID:7475-1700388000-1700406000@www.tchoukball.org.uk
SUMMARY:South East Regional League Round 1
DESCRIPTION:
URL:https://www.tchoukball.org.uk/events/south-east-regional-league-round-1-3/
LOCATION:Fareham Academy\, St Anne's Grove\, Fareham\, Hampshire\, PO14 1JJ
CATEGORIES:Competitions
ORGANIZER;CN="Tom McKeen":MAILTO:thomas.mckeen@tchoukball.org.uk
END:VEVENT
BEGIN:VEVENT
DTSTART;TZID=Europe/London:20231112T100000
DTEND;TZID=Europe/London:20231112T170000
DTSTAMP:20260421T123407
CREATED:20230904T101823Z
LAST-MODIFIED:20230906T082458Z
UID:7415-1699783200-1699808400@www.tchoukball.org.uk
SUMMARY:National League Round 1
DESCRIPTION:
URL:https://www.tchoukball.org.uk/events/national-league-round-1-3/
LOCATION:Venue360 Luton\, 20 Gipsy Lane\, Luton\, LU1 3JH\, United Kingdom
CATEGORIES:Competitions
ORGANIZER;CN="Tom McKeen":MAILTO:thomas.mckeen@tchoukball.org.uk
END:VEVENT
BEGIN:VEVENT
DTSTART;TZID=Europe/London:20231029T100000
DTEND;TZID=Europe/London:20231029T170000
DTSTAMP:20260421T123407
CREATED:20230904T100007Z
LAST-MODIFIED:20230906T082440Z
UID:7407-1698573600-1698598800@www.tchoukball.org.uk
SUMMARY:Team UK Squad Trials
DESCRIPTION:
URL:https://www.tchoukball.org.uk/events/team-uk-squad-trials/
LOCATION:Venue360 Luton\, 20 Gipsy Lane\, Luton\, LU1 3JH\, United Kingdom
CATEGORIES:Team UK
ORGANIZER;CN="Richard Jackson":MAILTO:richard.jackson@tchoukball.org.uk
END:VEVENT
BEGIN:VEVENT
DTSTART;TZID=Europe/London:20231021T000000
DTEND;TZID=Europe/London:20231022T235959
DTSTAMP:20260421T123407
CREATED:20230904T101635Z
LAST-MODIFIED:20230906T082423Z
UID:7413-1697846400-1698019199@www.tchoukball.org.uk
SUMMARY:Domini Fox Memorial Tournament
DESCRIPTION:
URL:https://www.tchoukball.org.uk/events/domini-fox-memorial-tournament-3/
LOCATION:Mountbatten Centre\, Alex Way\, Hilsea\, Portsmouth\, NH\, PO2 9QA
CATEGORIES:Competitions,Special
ORGANIZER;CN="Tom McKeen":MAILTO:thomas.mckeen@tchoukball.org.uk
END:VEVENT
BEGIN:VEVENT
DTSTART;TZID=Europe/London:20231015T000000
DTEND;TZID=Europe/London:20231015T235959
DTSTAMP:20260421T123407
CREATED:20230904T110023Z
LAST-MODIFIED:20230906T082431Z
UID:7473-1697328000-1697414399@www.tchoukball.org.uk
SUMMARY:Tchoukball UK General Assembly
DESCRIPTION:
URL:https://www.tchoukball.org.uk/events/tchoukball-uk-general-assembly/
CATEGORIES:Governance
ORGANIZER;CN="Richard Jackson":MAILTO:richard.jackson@tchoukball.org.uk
END:VEVENT
END:VCALENDAR