BEGIN:VCALENDAR
VERSION:2.0
PRODID:-//Tchoukball UK - ECPv6.15.20//NONSGML v1.0//EN
CALSCALE:GREGORIAN
METHOD:PUBLISH
X-WR-CALNAME:Tchoukball UK
X-ORIGINAL-URL:https://www.tchoukball.org.uk
X-WR-CALDESC:Events for Tchoukball UK
REFRESH-INTERVAL;VALUE=DURATION:PT1H
X-Robots-Tag:noindex
X-PUBLISHED-TTL:PT1H
BEGIN:VTIMEZONE
TZID:Europe/London
BEGIN:DAYLIGHT
TZOFFSETFROM:+0000
TZOFFSETTO:+0100
TZNAME:BST
DTSTART:20210328T010000
END:DAYLIGHT
BEGIN:STANDARD
TZOFFSETFROM:+0100
TZOFFSETTO:+0000
TZNAME:GMT
DTSTART:20211031T010000
END:STANDARD
BEGIN:DAYLIGHT
TZOFFSETFROM:+0000
TZOFFSETTO:+0100
TZNAME:BST
DTSTART:20220327T010000
END:DAYLIGHT
BEGIN:STANDARD
TZOFFSETFROM:+0100
TZOFFSETTO:+0000
TZNAME:GMT
DTSTART:20221030T010000
END:STANDARD
BEGIN:DAYLIGHT
TZOFFSETFROM:+0000
TZOFFSETTO:+0100
TZNAME:BST
DTSTART:20230326T010000
END:DAYLIGHT
BEGIN:STANDARD
TZOFFSETFROM:+0100
TZOFFSETTO:+0000
TZNAME:GMT
DTSTART:20231029T010000
END:STANDARD
BEGIN:DAYLIGHT
TZOFFSETFROM:+0000
TZOFFSETTO:+0100
TZNAME:BST
DTSTART:20240331T010000
END:DAYLIGHT
BEGIN:STANDARD
TZOFFSETFROM:+0100
TZOFFSETTO:+0000
TZNAME:GMT
DTSTART:20241027T010000
END:STANDARD
END:VTIMEZONE
BEGIN:VEVENT
DTSTART;TZID=Europe/London:20231008T090000
DTEND;TZID=Europe/London:20231008T170000
DTSTAMP:20260421T223148
CREATED:20230904T101422Z
LAST-MODIFIED:20230906T082433Z
UID:7411-1696755600-1696784400@www.tchoukball.org.uk
SUMMARY:National League Cup
DESCRIPTION:
URL:https://www.tchoukball.org.uk/events/national-league-cup-3/
LOCATION:Venue360 Luton\, 20 Gipsy Lane\, Luton\, LU1 3JH\, United Kingdom
CATEGORIES:Competitions
ORGANIZER;CN="Tom McKeen":MAILTO:thomas.mckeen@tchoukball.org.uk
END:VEVENT
BEGIN:VEVENT
DTSTART;TZID=Europe/London:20230709T100000
DTEND;TZID=Europe/London:20230709T170000
DTSTAMP:20260421T223148
CREATED:20221121T214526Z
LAST-MODIFIED:20230904T094357Z
UID:6164-1688896800-1688922000@www.tchoukball.org.uk
SUMMARY:Team UK Squad Training
DESCRIPTION:
URL:https://www.tchoukball.org.uk/events/team-uk-squad-training-8/
LOCATION:Venue360 Luton\, 20 Gipsy Lane\, Luton\, LU1 3JH\, United Kingdom
ORGANIZER;CN="Richard Jackson":MAILTO:richard.jackson@tchoukball.org.uk
END:VEVENT
BEGIN:VEVENT
DTSTART;TZID=Europe/London:20230625T100000
DTEND;TZID=Europe/London:20230625T170000
DTSTAMP:20260421T223148
CREATED:20221121T214443Z
LAST-MODIFIED:20221121T214444Z
UID:6162-1687687200-1687712400@www.tchoukball.org.uk
SUMMARY:Team UK Squad Training
DESCRIPTION:
URL:https://www.tchoukball.org.uk/events/team-uk-squad-training-7/
LOCATION:Venue360 Luton\, 20 Gipsy Lane\, Luton\, LU1 3JH\, United Kingdom
ORGANIZER;CN="Richard Jackson":MAILTO:richard.jackson@tchoukball.org.uk
END:VEVENT
BEGIN:VEVENT
DTSTART;TZID=Europe/London:20230611T100000
DTEND;TZID=Europe/London:20230611T170000
DTSTAMP:20260421T223148
CREATED:20221121T214412Z
LAST-MODIFIED:20221121T214413Z
UID:6160-1686477600-1686502800@www.tchoukball.org.uk
SUMMARY:Team UK Squad Training
DESCRIPTION:
URL:https://www.tchoukball.org.uk/events/team-uk-squad-training-6/
LOCATION:Venue360 Luton\, 20 Gipsy Lane\, Luton\, LU1 3JH\, United Kingdom
ORGANIZER;CN="Richard Jackson":MAILTO:richard.jackson@tchoukball.org.uk
END:VEVENT
BEGIN:VEVENT
DTSTART;TZID=Europe/London:20230528T100000
DTEND;TZID=Europe/London:20230528T170000
DTSTAMP:20260421T223148
CREATED:20221121T214338Z
LAST-MODIFIED:20221121T214339Z
UID:6158-1685268000-1685293200@www.tchoukball.org.uk
SUMMARY:Team UK Squad Training
DESCRIPTION:
URL:https://www.tchoukball.org.uk/events/team-uk-squad-training-5/
LOCATION:Venue360 Luton\, 20 Gipsy Lane\, Luton\, LU1 3JH\, United Kingdom
ORGANIZER;CN="Richard Jackson":MAILTO:richard.jackson@tchoukball.org.uk
END:VEVENT
BEGIN:VEVENT
DTSTART;TZID=Europe/London:20230514T100000
DTEND;TZID=Europe/London:20230514T170000
DTSTAMP:20260421T223148
CREATED:20221121T214258Z
LAST-MODIFIED:20221121T214259Z
UID:6156-1684058400-1684083600@www.tchoukball.org.uk
SUMMARY:Team UK Squad Training
DESCRIPTION:
URL:https://www.tchoukball.org.uk/events/team-uk-squad-training-4/
LOCATION:Venue360 Luton\, 20 Gipsy Lane\, Luton\, LU1 3JH\, United Kingdom
ORGANIZER;CN="Richard Jackson":MAILTO:richard.jackson@tchoukball.org.uk
END:VEVENT
BEGIN:VEVENT
DTSTART;TZID=Europe/London:20230430T100000
DTEND;TZID=Europe/London:20230430T170000
DTSTAMP:20260421T223148
CREATED:20230327T185831Z
LAST-MODIFIED:20230327T191028Z
UID:6765-1682848800-1682874000@www.tchoukball.org.uk
SUMMARY:Finals Day 2023
DESCRIPTION:
URL:https://www.tchoukball.org.uk/events/finals-day-2023/
LOCATION:Venue360 Luton\, 20 Gipsy Lane\, Luton\, LU1 3JH\, United Kingdom
ATTACH;FMTTYPE=image/png:https://www.tchoukball.org.uk/wp-content/uploads/2021/04/0-SuperCup_NEWsmall.png
ORGANIZER;CN="Richard Jackson":MAILTO:richard.jackson@tchoukball.org.uk
END:VEVENT
BEGIN:VEVENT
DTSTART;TZID=Europe/London:20230416T100000
DTEND;TZID=Europe/London:20230416T170000
DTSTAMP:20260421T223148
CREATED:20221121T212907Z
LAST-MODIFIED:20221121T213239Z
UID:6148-1681639200-1681664400@www.tchoukball.org.uk
SUMMARY:National League Round 5
DESCRIPTION:
URL:https://www.tchoukball.org.uk/events/national-league-round-5-2/
LOCATION:Venue360 Luton\, 20 Gipsy Lane\, Luton\, LU1 3JH\, United Kingdom
ATTACH;FMTTYPE=image/png:https://www.tchoukball.org.uk/wp-content/uploads/2021/03/NationalSuperLeague_NEW.png
ORGANIZER;CN="Richard Jackson":MAILTO:richard.jackson@tchoukball.org.uk
END:VEVENT
BEGIN:VEVENT
DTSTART;TZID=Europe/London:20230402T100000
DTEND;TZID=Europe/London:20230402T150000
DTSTAMP:20260421T223148
CREATED:20221116T121420Z
LAST-MODIFIED:20221121T213420Z
UID:6138-1680429600-1680447600@www.tchoukball.org.uk
SUMMARY:South-East Regional League Round 4
DESCRIPTION:
URL:https://www.tchoukball.org.uk/events/south-east-regional-league-round-4/
LOCATION:Fareham Academy\, St Anne's Grove\, Fareham\, Hampshire\, PO14 1JJ
ATTACH;FMTTYPE=image/png:https://www.tchoukball.org.uk/wp-content/uploads/2021/03/TUK_SouthEastLogo_NEW.png
ORGANIZER;CN="Tom McKeen":MAILTO:thomas.mckeen@tchoukball.org.uk
END:VEVENT
BEGIN:VEVENT
DTSTART;TZID=Europe/London:20230312T100000
DTEND;TZID=Europe/London:20230312T170000
DTSTAMP:20260421T223148
CREATED:20221121T212829Z
LAST-MODIFIED:20221121T213222Z
UID:6146-1678615200-1678640400@www.tchoukball.org.uk
SUMMARY:National League Round 4
DESCRIPTION:
URL:https://www.tchoukball.org.uk/events/national-league-round-4-2/
LOCATION:Venue360 Luton\, 20 Gipsy Lane\, Luton\, LU1 3JH\, United Kingdom
ATTACH;FMTTYPE=image/png:https://www.tchoukball.org.uk/wp-content/uploads/2021/03/NationalSuperLeague_NEW.png
ORGANIZER;CN="Richard Jackson":MAILTO:richard.jackson@tchoukball.org.uk
END:VEVENT
BEGIN:VEVENT
DTSTART;TZID=Europe/London:20230226T100000
DTEND;TZID=Europe/London:20230226T170000
DTSTAMP:20260421T223148
CREATED:20221121T214158Z
LAST-MODIFIED:20221121T214206Z
UID:6153-1677405600-1677430800@www.tchoukball.org.uk
SUMMARY:Team UK Squad Training
DESCRIPTION:
URL:https://www.tchoukball.org.uk/events/6153/
LOCATION:Venue360 Luton\, 20 Gipsy Lane\, Luton\, LU1 3JH\, United Kingdom
ORGANIZER;CN="Richard Jackson":MAILTO:richard.jackson@tchoukball.org.uk
END:VEVENT
BEGIN:VEVENT
DTSTART;TZID=Europe/London:20230212T100000
DTEND;TZID=Europe/London:20230212T150000
DTSTAMP:20260421T223148
CREATED:20221116T121314Z
LAST-MODIFIED:20221121T213403Z
UID:6136-1676196000-1676214000@www.tchoukball.org.uk
SUMMARY:South-East Regional League Round 3
DESCRIPTION:
URL:https://www.tchoukball.org.uk/events/south-east-regional-league-round-3/
LOCATION:Fareham Academy\, St Anne's Grove\, Fareham\, Hampshire\, PO14 1JJ
ATTACH;FMTTYPE=image/png:https://www.tchoukball.org.uk/wp-content/uploads/2021/03/TUK_SouthEastLogo_NEW.png
ORGANIZER;CN="Tom McKeen":MAILTO:thomas.mckeen@tchoukball.org.uk
END:VEVENT
BEGIN:VEVENT
DTSTART;TZID=Europe/London:20230129T100000
DTEND;TZID=Europe/London:20230129T170000
DTSTAMP:20260421T223148
CREATED:20221121T212718Z
LAST-MODIFIED:20221121T213154Z
UID:6144-1674986400-1675011600@www.tchoukball.org.uk
SUMMARY:National League Round 3
DESCRIPTION:
URL:https://www.tchoukball.org.uk/events/national-league-round-3-2/
LOCATION:Venue360 Luton\, 20 Gipsy Lane\, Luton\, LU1 3JH\, United Kingdom
ATTACH;FMTTYPE=image/png:https://www.tchoukball.org.uk/wp-content/uploads/2021/03/NationalSuperLeague_NEW.png
ORGANIZER;CN="Richard Jackson":MAILTO:richard.jackson@tchoukball.org.uk
END:VEVENT
BEGIN:VEVENT
DTSTART;TZID=Europe/London:20230115T100000
DTEND;TZID=Europe/London:20230115T150000
DTSTAMP:20260421T223148
CREATED:20221116T121216Z
LAST-MODIFIED:20221121T213340Z
UID:6134-1673776800-1673794800@www.tchoukball.org.uk
SUMMARY:South-East Regional League Round 2
DESCRIPTION:
URL:https://www.tchoukball.org.uk/events/south-east-regional-league-round-2/
LOCATION:Fareham Academy\, St Anne's Grove\, Fareham\, Hampshire\, PO14 1JJ
ATTACH;FMTTYPE=image/png:https://www.tchoukball.org.uk/wp-content/uploads/2021/03/TUK_SouthEastLogo_NEW.png
ORGANIZER;CN="Tom McKeen":MAILTO:thomas.mckeen@tchoukball.org.uk
END:VEVENT
BEGIN:VEVENT
DTSTART;TZID=Europe/London:20230108T100000
DTEND;TZID=Europe/London:20230108T140000
DTSTAMP:20260421T223148
CREATED:20221121T213939Z
LAST-MODIFIED:20221121T213940Z
UID:6151-1673172000-1673186400@www.tchoukball.org.uk
SUMMARY:Team UK Squad Training
DESCRIPTION:Men 10:00-14:00. There is no women’s session.
URL:https://www.tchoukball.org.uk/events/team-uk-squad-training-3/
LOCATION:Sharnbrook Academy\, Odell Rd\, Sharnbrook\, Bedford\, Bedfordshire\, MK44 1JL\, United Kingdom
ORGANIZER;CN="Richard Jackson":MAILTO:richard.jackson@tchoukball.org.uk
END:VEVENT
BEGIN:VEVENT
DTSTART;TZID=Europe/London:20221211T100000
DTEND;TZID=Europe/London:20221211T160000
DTSTAMP:20260421T223148
CREATED:20220913T111927Z
LAST-MODIFIED:20220928T103033Z
UID:5939-1670752800-1670774400@www.tchoukball.org.uk
SUMMARY:Team UK Squad Training
DESCRIPTION:Women: 10:00-13:00 | Men: 13:00-16:00
URL:https://www.tchoukball.org.uk/events/national-league-round-2-2/
LOCATION:Sharnbrook Academy\, Odell Rd\, Sharnbrook\, Bedford\, Bedfordshire\, MK44 1JL\, United Kingdom
ORGANIZER;CN="Richard Jackson":MAILTO:richard.jackson@tchoukball.org.uk
END:VEVENT
BEGIN:VEVENT
DTSTART;TZID=Europe/London:20221204T090000
DTEND;TZID=Europe/London:20221204T160000
DTSTAMP:20260421T223148
CREATED:20220913T112105Z
LAST-MODIFIED:20221121T213053Z
UID:5941-1670144400-1670169600@www.tchoukball.org.uk
SUMMARY:National League Round 2
DESCRIPTION:
URL:https://www.tchoukball.org.uk/events/team-uk-squad-training/
LOCATION:Sharnbrook Academy\, Odell Rd\, Sharnbrook\, Bedford\, Bedfordshire\, MK44 1JL\, United Kingdom
ATTACH;FMTTYPE=image/png:https://www.tchoukball.org.uk/wp-content/uploads/2021/03/NationalSuperLeague_NEW.png
ORGANIZER;CN="Richard Jackson":MAILTO:richard.jackson@tchoukball.org.uk
END:VEVENT
BEGIN:VEVENT
DTSTART;TZID=Europe/London:20221127T100000
DTEND;TZID=Europe/London:20221127T150000
DTSTAMP:20260421T223148
CREATED:20221103T205721Z
LAST-MODIFIED:20221121T213309Z
UID:6117-1669543200-1669561200@www.tchoukball.org.uk
SUMMARY:South-East Regional League Round 1
DESCRIPTION:
URL:https://www.tchoukball.org.uk/events/south-east-regional-league-round-1/
LOCATION:Fareham Academy\, St Anne's Grove\, Fareham\, Hampshire\, PO14 1JJ
ATTACH;FMTTYPE=image/png:https://www.tchoukball.org.uk/wp-content/uploads/2021/03/TUK_SouthEastLogo_NEW.png
ORGANIZER;CN="Tom McKeen":MAILTO:thomas.mckeen@tchoukball.org.uk
END:VEVENT
BEGIN:VEVENT
DTSTART;TZID=Europe/London:20221113T090000
DTEND;TZID=Europe/London:20221113T160000
DTSTAMP:20260421T223148
CREATED:20220913T111725Z
LAST-MODIFIED:20221107T104945Z
UID:5937-1668330000-1668355200@www.tchoukball.org.uk
SUMMARY:National League Round 1
DESCRIPTION:
URL:https://www.tchoukball.org.uk/events/national-league-round-1-2/
LOCATION:Sharnbrook Academy\, Odell Rd\, Sharnbrook\, Bedford\, Bedfordshire\, MK44 1JL\, United Kingdom
ORGANIZER;CN="Richard Jackson":MAILTO:richard.jackson@tchoukball.org.uk
END:VEVENT
BEGIN:VEVENT
DTSTART;TZID=Europe/London:20221029T183000
DTEND;TZID=Europe/London:20221029T233000
DTSTAMP:20260421T223148
CREATED:20221011T134504Z
LAST-MODIFIED:20221011T134506Z
UID:5966-1667068200-1667086200@www.tchoukball.org.uk
SUMMARY:Tchoukball UK Awards Evening 2022
DESCRIPTION:A celebration of Tchoukball UK featuring an awards presentation for winning clubs\, teams and players from 2021 and 2022. \n\n\n\nCost: £20 per person maximum including a hot buffet. The schedule is as follows: \n\n\n\n18:30 – Arrival19:00 – Evening meal20:00 – Awards begin finishing by 22:0022:00 – Post-awards drinks and mingling00:00 – Event ends
URL:https://www.tchoukball.org.uk/events/tchoukball-uk-awards-evening-2022/
LOCATION:Mountbatten Centre\, Alex Way\, Hilsea\, Portsmouth\, NH\, PO2 9QA
ORGANIZER;CN="Richard Jackson":MAILTO:richard.jackson@tchoukball.org.uk
END:VEVENT
BEGIN:VEVENT
DTSTART;TZID=Europe/London:20221029T100000
DTEND;TZID=Europe/London:20221030T160000
DTSTAMP:20260421T223148
CREATED:20220913T111421Z
LAST-MODIFIED:20220913T111423Z
UID:5935-1667037600-1667145600@www.tchoukball.org.uk
SUMMARY:Domini Fox Memorial Tournament
DESCRIPTION:
URL:https://www.tchoukball.org.uk/events/domini-fox-memorial-tournament-2/
LOCATION:Mountbatten Centre\, Alex Way\, Hilsea\, Portsmouth\, NH\, PO2 9QA
ORGANIZER;CN="Richard Jackson":MAILTO:richard.jackson@tchoukball.org.uk
END:VEVENT
BEGIN:VEVENT
DTSTART;TZID=Europe/London:20221023T100000
DTEND;TZID=Europe/London:20221023T170000
DTSTAMP:20260421T223148
CREATED:20220928T091808Z
LAST-MODIFIED:20220928T091944Z
UID:5948-1666519200-1666544400@www.tchoukball.org.uk
SUMMARY:Team UK Squad Training
DESCRIPTION:Women: 10:00-13:00 | Men: 13:00-17:00
URL:https://www.tchoukball.org.uk/events/team-uk-squad-training-2/
LOCATION:Lincroft Academy\, Station Road\, Oakley\, Bedford\, Bedfordshire\, MK43 7RE\, United Kingdom
ORGANIZER;CN="Richard Jackson":MAILTO:richard.jackson@tchoukball.org.uk
END:VEVENT
BEGIN:VEVENT
DTSTART;TZID=Europe/London:20221016T100000
DTEND;TZID=Europe/London:20221016T170000
DTSTAMP:20260421T223148
CREATED:20220923T082708Z
LAST-MODIFIED:20220923T082710Z
UID:5946-1665914400-1665939600@www.tchoukball.org.uk
SUMMARY:National League Cup
DESCRIPTION:
URL:https://www.tchoukball.org.uk/events/national-league-cup-2/
LOCATION:Arena Sports Kettering\, Thurston Drive\, Kettering\, Northamptonshire\, NN15 6PB
ORGANIZER;CN="Richard Jackson":MAILTO:richard.jackson@tchoukball.org.uk
END:VEVENT
BEGIN:VEVENT
DTSTART;TZID=Europe/London:20220804T093000
DTEND;TZID=Europe/London:20220806T170000
DTSTAMP:20260421T223148
CREATED:20220711T190930Z
LAST-MODIFIED:20220711T190931Z
UID:5572-1659605400-1659805200@www.tchoukball.org.uk
SUMMARY:European Tchoukball Championships 2022
DESCRIPTION:Join us for the 2022 European Tchoukball Championships (ETC) in Leeds\, UK on 3-7 August when players from across Europe join us to play for the title of European Tchoukball Champion. Group matches will commence on Thursday 4 August\, with finals and awards on Saturday 6 August. Games can be enjoyed at the venue (free entry) or watched via our YouTube live stream. \n\n\n\nFollow us on Facebook for updates on match schedule\, live stream and more. \n\n\n\nMen’s category:GBR United Kingdom A GBR United Kingdom B CZE Czech Republic ESP Spain GER Germany ITA Italy SUI Switzerland  \n\n\n\nWomen’s category:GBR United Kingdom A GBR United Kingdom B ITA Italy SUI Switzerland  \n\n\n\nM18 Boys category:GBR United Kingdom ITA Italy SUI Switzerland   \n\n\n\nVENUE: CARNEGIE SPORTS CENTRE\, Headingley Campus\, Leeds LS6 3QQThe tournament will be hosted across two courts at Leeds Beckett University’s Headingley Campus: The Sports Arena 1 & 2. Opened in November 2012\, the Sports Arena 1 (show court) has played host to major national sporting fixtures including Yorkshire Jets (elite netball team) and Leeds Force (professional basketball team). The show court has seating for 500 spectators and will be the venue for all the major games through the competition. Arena 2 provide a high-quality full-size court\, with spectator viewing balconies. \n\n\n\nThis event is hosted in collaboration with the International Tchoukball Federation (FITB) and is a qualifying continental championship for the World Tchoukball Championships in 2023.
URL:https://www.tchoukball.org.uk/events/european-tchoukball-championships-2022/
LOCATION:Leeds Beckett University\, Headingley Campus\, Leeds\, West Yorkshire\, LS6 3QQ
ORGANIZER;CN="Tchoukball UK":MAILTO:admin@tchoukball.org.uk
END:VEVENT
BEGIN:VEVENT
DTSTART;TZID=Europe/London:20220528T000000
DTEND;TZID=Europe/London:20220529T235959
DTSTAMP:20260421T223148
CREATED:20210404T230249Z
LAST-MODIFIED:20210404T232446Z
UID:3981-1653696000-1653868799@www.tchoukball.org.uk
SUMMARY:Finals Weekend 2020
DESCRIPTION:
URL:https://www.tchoukball.org.uk/events/finals-weekend-2020/
LOCATION:Leeds Beckett University\, Headingley Campus\, Leeds\, West Yorkshire\, LS6 3QQ
CATEGORIES:Special
ORGANIZER;CN="Richard Jackson":MAILTO:richard.jackson@tchoukball.org.uk
END:VEVENT
BEGIN:VEVENT
DTSTART;TZID=Europe/London:20220508T100000
DTEND;TZID=Europe/London:20220508T160000
DTSTAMP:20260421T223148
CREATED:20220508T090004Z
LAST-MODIFIED:20220704T192053Z
UID:3982-1652004000-1652025600@www.tchoukball.org.uk
SUMMARY:Team UK Men's Senior Squad Training
DESCRIPTION:
URL:https://www.tchoukball.org.uk/events/team-uk-training-2/
LOCATION:Sharnbrook Academy\, Odell Rd\, Sharnbrook\, Bedford\, Bedfordshire\, MK44 1JL\, United Kingdom
CATEGORIES:Team UK
ORGANIZER;CN="Richard Jackson":MAILTO:richard.jackson@tchoukball.org.uk
END:VEVENT
BEGIN:VEVENT
DTSTART;TZID=Europe/London:20220424T100000
DTEND;TZID=Europe/London:20220424T170000
DTSTAMP:20260421T223148
CREATED:20210404T230249Z
LAST-MODIFIED:20220404T192106Z
UID:3979-1650794400-1650819600@www.tchoukball.org.uk
SUMMARY:National League Round 5
DESCRIPTION:
URL:https://www.tchoukball.org.uk/events/national-league-round-5/
LOCATION:Sharnbrook Academy\, Odell Rd\, Sharnbrook\, Bedford\, Bedfordshire\, MK44 1JL\, United Kingdom
CATEGORIES:Competitions
ORGANIZER;CN="Richard Jackson":MAILTO:richard.jackson@tchoukball.org.uk
END:VEVENT
BEGIN:VEVENT
DTSTART;TZID=Europe/London:20220403T100000
DTEND;TZID=Europe/London:20220403T170000
DTSTAMP:20260421T223148
CREATED:20210404T230234Z
LAST-MODIFIED:20220329T141356Z
UID:3977-1648980000-1649005200@www.tchoukball.org.uk
SUMMARY:National League Round 4
DESCRIPTION:
URL:https://www.tchoukball.org.uk/events/national-league-round-4/
LOCATION:Lincroft Academy\, Station Road\, Oakley\, Bedford\, Bedfordshire\, MK43 7RE\, United Kingdom
CATEGORIES:Competitions
ORGANIZER;CN="Richard Jackson":MAILTO:richard.jackson@tchoukball.org.uk
END:VEVENT
BEGIN:VEVENT
DTSTART;TZID=Europe/London:20220327T110000
DTEND;TZID=Europe/London:20220327T160000
DTSTAMP:20260421T223148
CREATED:20220130T170500Z
LAST-MODIFIED:20220131T095210Z
UID:5322-1648378800-1648396800@www.tchoukball.org.uk
SUMMARY:Team UK Youth Trials
DESCRIPTION:Important information and registration\n\n\n\nWe are delighted to welcome youth players in the U18\, U15 and U12 categories to Team UK trials ahead of the European Youth Tchoukball Championships (EYTC) in Leeds\, UK this summer (29 July to 2 August). Below you will find important information regarding the second of these trials. Please read this carefully and make sure you register for the trial using the link below. Note that the link to register for trials covers both sessions and you only need to complete the registration form once. More information about trial 2 can be found here.  \n\n\n\nThe trial will be lead by Ian Parker\, Team UK Youth Head Coach and Andy Wolfe\, Team UK Youth Coach. We will also have Team UK Senior Women’s player Sara Parker assisting on the day. We will run two sessions on the day based on gender and age categories as detailed below. There will be short breaks in the sessions. Please ensure your child comes equipped with water/drinks/refreshments as required\, parents will be able to enjoy a selection of refreshments from the leisure centre café.   \n\n\n\nTeam UK Youth categories\n\n\n\nSession 1: 11:00-13:30U12 Girls (will be 12 or under on 31 Dec 2022) U12 Boys (will be 12 or under on 31 Dec 2022)U15 Girls (will be 15 or under on 31 Dec 2022)  \n\n\n\nSession 2: 13:00-16:00U15 Boys (will be 15 or under on 31 Dec 2022)U18 Girls (will be 18 or under on 31 Dec 2022)U18 Boys (will be 18 or under on 31 Dec 2022)  \n\n\n\nWe highly recommend players attend both trials to give themselves the best opportunity of being selected. If you would like to play for Team UK at the EYTC in Leeds but cannot make one or both of the trials please let Team UK Youth Head Coach\, Ian Parker know as soon as possible by emailing: ian.parker@tchoukball.org.uk. Players are also welcome to attend the trials even if they do not wish to play  in or are unavailable for the competition. If this is the case please notify Ian.  \n\n\n\nCost: £5 for the session to be paid on the day\, we have a card option but please bring cash just in case.Deadline for registration: Thursday\, 17th February 2022 \n\n\n\nWe encourage involvement from parents and carers at all stages of the trials and selection process. For general enquiries about the competition please email admin@tchoukball.org.uk \n\n\n\n\nREGISTER HERE
URL:https://www.tchoukball.org.uk/events/team-uk-youth-trials-feb-2022/
LOCATION:Newmarket Leisure Centre\, Exning Rd\, Newmarket\, Suffolk\, CB8 0EA
CATEGORIES:Team UK
ORGANIZER;CN="Ian Parker":MAILTO:ian.parker@tchoukball.org.uk
END:VEVENT
BEGIN:VEVENT
DTSTART;TZID=Europe/London:20220320T100000
DTEND;TZID=Europe/London:20220320T150000
DTSTAMP:20260421T223148
CREATED:20210404T230234Z
LAST-MODIFIED:20220130T143240Z
UID:3975-1647770400-1647788400@www.tchoukball.org.uk
SUMMARY:South East Regional Round 4
DESCRIPTION:
URL:https://www.tchoukball.org.uk/events/south-east-regional-round-4/
LOCATION:Fareham Academy\, St Anne's Grove\, Fareham\, Hampshire\, PO14 1JJ
CATEGORIES:Competitions
ORGANIZER;CN="Richard Jackson":MAILTO:richard.jackson@tchoukball.org.uk
END:VEVENT
END:VCALENDAR